BEGIN:VCALENDAR
VERSION:2.0
PRODID:-//Stadtgeschichte München//DE
CALSCALE:GREGORIAN
BEGIN:VEVENT
UID:1472@stadtgeschichte-muenchen.de
SUMMARY:München von hinten
DESCRIPTION:&lt;p&gt;Auf unserer Fahrrad-Tour wollen wir uns nicht auf die repr&amp;auml;sentativen Postkartenansichten M&amp;uuml;nchner Geb&amp;auml;ude konzentrieren, sondern ganz gezielt die R&amp;uuml;ckseiten und Hinterh&amp;ouml;fe dieser H&amp;auml;user betrachten. Dabei kann man h&amp;auml;ufig die Funktion der Bauten erkennen, die mit ihrer Schauseite oft nicht &amp;uuml;bereinstimmt. Viele unvermutete und spannende Einsichten werden wir dabei entdecken.&lt;/p&gt;
DTSTART:20120701T110000
DTEND:20120701T140000
LOCATION:Volksbad * Haupteingang
ORGANIZER:MVHS München Mitte   
END:VEVENT
END:VCALENDAR