BEGIN:VCALENDAR
VERSION:2.0
PRODID:-//Stadtgeschichte München//DE
CALSCALE:GREGORIAN
BEGIN:VEVENT
UID:14731@stadtgeschichte-muenchen.de
SUMMARY:Filmkulisse Müchen - Drehorte in Schwabing
DESCRIPTION:&lt;p&gt;Waren es die Bermudas oder die Bahamas? Aus welchem Stadtteil kam die Elli wirklich? In welche Eisdiele in der Leopoldstraße lud der Monaco Franze gern seine Begleiterinnen ein? Und wie viel &quot;Monaco Franze&quot; steckte in der Privatperson Helmut Fischer, der den Stenz auf unnachahmliche Weise vor der Kamera verkörperte? Wandeln Sie auf den Spuren Franz Münchingers durch Schwabing und suchen Sie die Orte auf, wo der ewige Stenz einst mit seinen jungen Damen flanierte und zusammen mit dem &quot;Kopfeck Manni&quot; auf Frauenfang ging. Führungen zu weiteren Drehorten finden im Lehel am 29.4.2018 (G121310) statt und in Haidhausen am 13.5.2018 (G121410).&lt;/p&gt; 
DTSTART:20180708T133000
DTEND:20180708T153000
LOCATION:Treffpunkt: Münchner Freiheit/Ecke Haimhauser Str.
ORGANIZER:MVHS München Mitte   
END:VEVENT
END:VCALENDAR