BEGIN:VCALENDAR
VERSION:2.0
PRODID:-//Stadtgeschichte München//DE
CALSCALE:GREGORIAN
BEGIN:VEVENT
UID:14737@stadtgeschichte-muenchen.de
SUMMARY:„Aber wehe, wehe, wehe! Wenn ich auf das Ende sehe!“
DESCRIPTION:&lt;p&gt;&quot;Max und Moritz&quot; erblickten vor 150 Jahren das Licht der Welt - in München! Wer sich hinter den beiden Lausbuben verbirgt, wo in München die Erfolgsgeschichte dieses Klassikers begann und welche bekannten Münchner Künstler zum engsten Freundeskreis Buschs zählten, gibt es bei diesem Spaziergang zu entdecken. Dass München für ihn, den Niedersachsen, eine zentrale Lebensstation war, geht aus den Versen hervor, die er anlässlich seines 75. Geburtstags notierte: &quot;Wohlan, so mach dich auf die Füße, und trag die allerschönsten Grüße, nach München, der berühmten Stadt, die mir so gut gefallen hat.&quot;&lt;/p&gt; 
DTSTART:20180804T150000
DTEND:20180804T170000
LOCATION:Treffpunkt: Elisenstr., Höhe Neptunbrunnen
ORGANIZER:MVHS München Mitte   
END:VEVENT
END:VCALENDAR