BEGIN:VCALENDAR
VERSION:2.0
PRODID:-//Stadtgeschichte München//DE
CALSCALE:GREGORIAN
BEGIN:VEVENT
UID:14746@stadtgeschichte-muenchen.de
SUMMARY:Von Lola Montez zu King Kong
DESCRIPTION:&lt;p&gt;Die Altstadt birgt Orte, die vor gut 150 Jahren völlig anders aussahen und Erstaunliches beherbergten: Zum Beispiel König Ludwigs II. Wintergarten auf dem Dach der Residenz oder das Internationale Handelspanoptikum in der Neuhauser Straße. Dort konnte man nebst einem anatomischen Museum einen Vorfahren von King Kong, orientalische Haremsfantasien und Suleika, die rauchende Türkin, bestaunen. Wie sich um 1900 die Faszination des Fremden verbreitete und wie es in Szene gesetzt wurde, erfahren Sie bei diesem Rundgang.&lt;/p&gt; 
DTSTART:20180908T150000
DTEND:20180908T170000
LOCATION:Treffpunkt: Odeonsplatz, vor der Feldherrnhalle
ORGANIZER:MVHS München Mitte   
END:VEVENT
END:VCALENDAR