BEGIN:VCALENDAR
VERSION:2.0
PRODID:-//Stadtgeschichte München//DE
CALSCALE:GREGORIAN
BEGIN:VEVENT
UID:14747@stadtgeschichte-muenchen.de
SUMMARY:Die Hoch-Au - Intensivseminar: Vortrag und Führung
DESCRIPTION:&lt;p&gt;In der Au finden sich einige Einrichtungen, die den Kampf der Arbeiterschaft um menschengerechtes Wohnen, angemessene Kinderbetreuung, günstige Einkaufsmöglichkeiten und körperlichen Ausgleich zu den oft unmenschlichen Arbeitsbedingungen verdeutlichen: etwa die &quot;Josefshäuser&quot;, die Genossenschaftsbauten, die &quot;Armen-Industrie-Schule&quot;, das &quot;Kinderasyl&quot; oder das &quot;Adelgundenheim&quot;. Hier gab es den ersten &quot;Konsumverein&quot; Münchens und den traditionellen Arbeiter-, Turn- und Sportverein &quot;TSV Ost&quot;, aber auch weniger beliebte Einrichtungen wie die &quot;Kreisirrenanstalt&quot;.&lt;/p&gt; 
DTSTART:20180908T110000
DTEND:20180908T123000
LOCATION:Gasteig
ORGANIZER:MVHS München Mitte   
END:VEVENT
END:VCALENDAR