BEGIN:VCALENDAR
VERSION:2.0
PRODID:-//Stadtgeschichte München//DE
CALSCALE:GREGORIAN
BEGIN:VEVENT
UID:14760@stadtgeschichte-muenchen.de
SUMMARY:Altmünchner Gastlichkeit
DESCRIPTION:&lt;p&gt;„Berge von unten, Kirchen von außen und Wirtshäuser von innen“ - so lautete seinerzeit der Titel einer Ausstellung über Münchner Wirtshäuser. Den letzten Teil wollen wir uns zu Eigen machen und nun bei diesem Rundgang durch die Münchener Altstadt einige der noch original erhaltenen Gasträume der Jahrhundertwende kennen lernen. Wir besichtigen traditionsreiche Weinwirtschaften, Restaurants und Cafes in historischen Bauten.&lt;br /&gt; In Zusammenarbeit mit der vhs Taufkirchen.&lt;/p&gt; 
DTSTART:20180427T150000
DTEND:20180427T170000
LOCATION:Am Karlstor
ORGANIZER:MVHS
END:VEVENT
END:VCALENDAR