BEGIN:VCALENDAR
VERSION:2.0
PRODID:-//Stadtgeschichte München//DE
CALSCALE:GREGORIAN
BEGIN:VEVENT
UID:14761@stadtgeschichte-muenchen.de
SUMMARY:Prinzregententheater und seine Umgebung
DESCRIPTION:&lt;p&gt;Um das Neubauviertel am östlichen Isarhochufer aufzuwerten und für gehobene Schichten attraktiv zu machen, errichtete Max Littmann 1900 das Theater. Die wunderschönen Häuser rund um den Platz wurden ebenfalls liebevoll renoviert, so dass das Theater wieder seine noble Umgebung besitzt.&lt;/p&gt; 
DTSTART:20180502T140000
DTEND:20180502T160000
LOCATION:Theatereingang
ORGANIZER:MVHS
END:VEVENT
END:VCALENDAR