BEGIN:VCALENDAR
VERSION:2.0
PRODID:-//Stadtgeschichte München//DE
CALSCALE:GREGORIAN
BEGIN:VEVENT
UID:14769@stadtgeschichte-muenchen.de
SUMMARY:Stätte der Ewigkeit: der Neue Israelitische Friedhof
DESCRIPTION:&lt;p&gt;Das Anwachsen der jüdischen Bevölkerung machte Anfang des 20. Jahrhunderts die Anlage eines neuen Friedhofes nötig, den Hans Grässel plante. Ein Spaziergang durch diese „Stätte der Ewigkeit“ ist auch ein Weg durch die Geschichte. Sie begegnen bekannten Namen wie Bernheimer, Schülein, Uhlfelder, Eisner und Landauer und erfahren manches über die Besonderheiten des Ortes.&lt;br /&gt; Achtung: Für Männer und verheiratete Frauen ist eine Kopfbedeckung nötig!&amp;nbsp;&lt;br /&gt; In Zusammenarbeit mit der vhs Taufkirchen.&lt;/p&gt; 
DTSTART:20180703T140000
DTEND:20180703T160000
LOCATION:Eingang Garchinger Str. 37
ORGANIZER:MVHS
END:VEVENT
END:VCALENDAR