BEGIN:VCALENDAR
VERSION:2.0
PRODID:-//Stadtgeschichte München//DE
CALSCALE:GREGORIAN
BEGIN:VEVENT
UID:14775@stadtgeschichte-muenchen.de
SUMMARY:Bummeln und Ausgehen in Haidhausen
DESCRIPTION:&lt;p&gt;Schöne kleine Geschäfte, Märkte, Lokale, Bierkeller und Biergärten - Im eigentlich zentrumsnahen Haidhausen geht’s gemütlich zu. Wir erleben die romantische und charmante Seite dieses Stadtteils und schauen in ein paar Lokale hinein - bestimmt gibt’s Anregungen zu einem schönen Ausgeh-Abend.&lt;/p&gt; 
DTSTART:20180718T180000
DTEND:20180718T193000
LOCATION:Max-Weber-Platz 9 vor dem Blumenladen
ORGANIZER:MVHS
END:VEVENT
END:VCALENDAR