BEGIN:VCALENDAR
VERSION:2.0
PRODID:-//Stadtgeschichte München//DE
CALSCALE:GREGORIAN
BEGIN:VEVENT
UID:14837@stadtgeschichte-muenchen.de
SUMMARY:xx
DESCRIPTION:
DTSTART:20181231T000000
DTEND:20181231T000000
LOCATION:xxxx
ORGANIZER:stadtgeschichte-muenchen.de
END:VEVENT
END:VCALENDAR