BEGIN:VCALENDAR
VERSION:2.0
PRODID:-//Stadtgeschichte München//DE
CALSCALE:GREGORIAN
BEGIN:VEVENT
UID:14912@stadtgeschichte-muenchen.de
SUMMARY:Radtour zu berühmten Frauen zwischen Donnersberger Brücke und Taxisgarten 
DESCRIPTION:&lt;p&gt;Bei dieser Radtour besuchen wir Frauen-Denkmäler und betrachten Neuhausen aus einem weiblichen Blickwinkel. Wir starten bei den fast drei Meter großen Trauernden an der Donnersberger Brücke, besuchen das moderne Graffiti einer jungen Sprayerin sowie die gemalten Nibelungen Kriemhild und Brunhild. Wir erfahren etwas über Renata von Lothringen, sehen eine alte Kräutersammlerin und eine amazonenhafte Jägerin aus Bronze am Hubertusbrunnen. Die Fahrradtour endet beim Relief von Mathilde Jörres, der Unternehmerin und Gründerin des Marienstifts an der Taxis-/Klugstraße.&lt;br /&gt; Radstrecke ca. 3 Kilometer&lt;/p&gt; 
DTSTART:20180708T140000
DTEND:20180708T160000
LOCATION:Richelstr., rückwärtiger Garten der Bundesbahndirektion beim S-Bahnhof 
ORGANIZER:MVHS München West
END:VEVENT
END:VCALENDAR