BEGIN:VCALENDAR
VERSION:2.0
PRODID:-//Stadtgeschichte München//DE
CALSCALE:GREGORIAN
BEGIN:VEVENT
UID:14924@stadtgeschichte-muenchen.de
SUMMARY:Pasing im Dritten Reich - eine Spurensuche
DESCRIPTION:&lt;p&gt;Auf einem dreistündigen Spaziergang wollen wir Orte kennenlernen, die im Dritten Reich eine besondere Bedeutung hatten. Gebäude und Plätze, Denkmäler und Grünanlagen aufspüren, die im nationalsozialistischen Alltag wichtig waren. Ausgangspunkt unserer Tour ist das alte Rathaus, ab Mai 1938 „Haus der NSDAP&quot;: Hier begann der Terror auch in Pasing. Weitere Stationen sind u.a. das Kriegerdenkmal, der ehemalige Adolf-Hitler-Platz und der versteckt im Zentrum stehende Hochbunker.&lt;/p&gt; 
DTSTART:20180616T100000
DTEND:20180616T130000
LOCATION:Volkshochschule, Bäckerstr. 14
ORGANIZER:MVHS München West
END:VEVENT
END:VCALENDAR