BEGIN:VCALENDAR
VERSION:2.0
PRODID:-//Stadtgeschichte München//DE
CALSCALE:GREGORIAN
BEGIN:VEVENT
UID:1499@stadtgeschichte-muenchen.de
SUMMARY:Adventskalender-Tour: 24 Münchner Türen
DESCRIPTION:&lt;p&gt;F&amp;uuml;r die Adventszeit haben wir uns einen ganz besonderen Stadtrundgang durch das vorweihnachtliche M&amp;uuml;nchen ausgedacht: Hinter 24 T&amp;uuml;ren verbergen sich 853 Jahre M&amp;uuml;nchner Stadtgeschichte. Diese gilt es auf einem Rundgang durch das weihnachtliche M&amp;uuml;nchen zu entdecken. Anhand von Bildern suchen die Kinder 24 ganz besondere M&amp;uuml;nchner T&amp;uuml;ren und schauen mit uns dahinter. Dabei begegnen wir ber&amp;uuml;hmten M&amp;uuml;nchner Pers&amp;ouml;nlichkeiten, lernen alte Adventsbr&amp;auml;uche kennen und h&amp;ouml;ren spannende Geschichten und lustige Begebenheiten aus der M&amp;uuml;nchner Vergangenheit! F&amp;uuml;r Kinder ab 6 Jahren&lt;/p&gt;
DTSTART:20111126T100000
DTEND:20111126T120000
LOCATION:Eingang der Heilig-Geist-Kirche
ORGANIZER:Die Stadtschwärmer
END:VEVENT
END:VCALENDAR