BEGIN:VCALENDAR
VERSION:2.0
PRODID:-//Stadtgeschichte München//DE
CALSCALE:GREGORIAN
BEGIN:VEVENT
UID:15024@stadtgeschichte-muenchen.de
SUMMARY:Gedenkveranstaltung - Ermordung Kurt Eisner
DESCRIPTION:&lt;p&gt;Das andere Bayern erinnert an die Ermordung Kurt Eisners&amp;nbsp; am 21. Februar 1919 durch einen Rechtsextremisten&lt;br /&gt; und fordert die Benennung des Marienhofs: Kurt-Eisner-Platz.&lt;br /&gt; &lt;br /&gt; Bis heute wird die wichtige Rolle, die der erste Ministerpräsident des Freistaats Bayern Kurt Eisner spielte, nicht angemessen gewürdigt.&lt;/p&gt; &lt;p&gt;Zur Gedenkveranstaltung an der Stelle des feigen Attentats, in der Kardinal-Faulhaber-Straße,&amp;nbsp; werden &lt;strong&gt;Konstantin Wecker&lt;/strong&gt; die Proklamation des Freistaats und die Gedenkrede Heinrich Manns und &lt;strong&gt;Julia Killet&lt;/strong&gt; einen Text von Felix Fechenbach lesen.&lt;br /&gt; &lt;strong&gt;Michaela Dietl&lt;/strong&gt; spielt auf dem Akkordeon&lt;br /&gt; &lt;br /&gt; Mit einem anschließenden Spaziergang und einer Kunstaktion am Marienhof werden die Mitglieder,&amp;nbsp; Sympathisantinnen und Sympathisanten des „anderen Bayern“&amp;nbsp; ihre Initiative für einen Kurt-Eisner-Platz in München zum Ausdruck bringen.&lt;/p&gt; 
DTSTART:20180221T110000
DTEND:20180221T000000
LOCATION: Kurt-Eisner-Denkmal (Bodenplatte) Kardinal-Faulhaber-Straße 
ORGANIZER:Das andere Bayern e.V.
END:VEVENT
END:VCALENDAR