BEGIN:VCALENDAR
VERSION:2.0
PRODID:-//Stadtgeschichte München//DE
CALSCALE:GREGORIAN
BEGIN:VEVENT
UID:15046@stadtgeschichte-muenchen.de
SUMMARY:Kunst im Verborgenen
DESCRIPTION:&lt;p&gt;Das Georgianum ist eine über 500-jährige Stiftung, die mit der Universität nach München kam. Um den Priesteramtskandidaten einen Bezug zu den Kunstwerken in den später von ihnen zu betreuenden Kirchen zu vermitteln, sammelte man Altargemälde und religiöse Skulpturen vom 12. bis zum 18. Jahrhundert.&lt;/p&gt; 
DTSTART:20180619T103000
DTEND:20180619T123000
LOCATION:Georgianum, Prof.-Huber-Platz 1, 80539 München
ORGANIZER:Münchner Bildungswerk e.V.
END:VEVENT
END:VCALENDAR