BEGIN:VCALENDAR
VERSION:2.0
PRODID:-//Stadtgeschichte München//DE
CALSCALE:GREGORIAN
BEGIN:VEVENT
UID:15056@stadtgeschichte-muenchen.de
SUMMARY:Die Münchner Kriminalpolizei und die Deportation der Sinti und Roma im März 1943
DESCRIPTION:&lt;p&gt;Am 8. März 1943 begann die Deportation der Münchner Sinti und Roma in das Vernichtungslager Auschwitz-Birkenau.&lt;/p&gt; &lt;p&gt;Der Historiker Dr. Joachim Schröder berichtet am historischen Ort über die „Dienststelle für Zigeunerfragen“ und ihre Mitarbeiter sowie deren Karrieren nach 1945.&lt;/p&gt; 
DTSTART:20180312T190000
DTEND:20180312T203000
LOCATION:Polizeipräsidium München  Ettstr. 2 – 4
ORGANIZER:
END:VEVENT
END:VCALENDAR