BEGIN:VCALENDAR
VERSION:2.0
PRODID:-//Stadtgeschichte München//DE
CALSCALE:GREGORIAN
BEGIN:VEVENT
UID:151@stadtgeschichte-muenchen.de
SUMMARY:Vom Hof-Garten zum Landschaftspark
DESCRIPTION:&lt;p&gt;In der M&amp;uuml;nchner Altstadt gab und gibt es viele G&amp;auml;rten in privaten und kl&amp;ouml;sterlichen H&amp;ouml;fen. Den Hofgarten gibt es seit Ende des 15. Jahrhunderts nord&amp;ouml;stlich der herzoglichen Neuveste, dann n&amp;ouml;rdlich der kurf&amp;uuml;rstlichen Residenz. F&amp;uuml;r die Allgemeinheit ge&amp;ouml;ffnet wurde er durch den ungeliebten Karl Theodor. Desgleichen entstanden aus den Offiziersg&amp;auml;rten auf dem Hirschanger unterhalb des Sch&amp;ouml;nfelds der weitl&amp;auml;ufige &amp;bdquo;Englische Garten&amp;quot; f&amp;uuml;r eine wachsende B&amp;uuml;rgerschaft. Seine Sch&amp;ouml;pfer Rumford, Werneck und Sckell hatten durchaus unterschiedliche Grundvorstellungen.&lt;/p&gt;
DTSTART:20110716T110000
DTEND:20110716T130000
LOCATION:Odeonsplatz, Tor zum Hofgarten
ORGANIZER:MVHS München Mitte   
END:VEVENT
END:VCALENDAR