BEGIN:VCALENDAR
VERSION:2.0
PRODID:-//Stadtgeschichte München//DE
CALSCALE:GREGORIAN
BEGIN:VEVENT
UID:15164@stadtgeschichte-muenchen.de
SUMMARY:Nationalsozialismus in München
DESCRIPTION:&lt;p&gt;Die Führung nimmt Münchens Rolle als Gründungs- und Aufstiegsort des Nationalsozialismus sowie als „Hauptstadt der Bewegung“ und „Hauptstadt der Deutschen Kunst“ in den Blick. Weitere Schwerpunkte beleuchten die Bedeutung der Stadt als Medien- und Rüstungsstandort sowie Verfolgung und Widerstand. Dabei geht es auch um die Frage, was diese Stadt von anderen Städten in Bezug auf den Nationalsozialismus unterscheidet.&lt;/p&gt; &lt;p&gt;Die Ausstellung „Nationalsozialismus in München“ ist an diesem Abend bis 20 Uhr geöffnet. Das Abendticket inklusive Ausstellung und Programm kostet 3,50 Euro.&lt;/p&gt; 
DTSTART:20180314T180000
DTEND:20180314T000000
LOCATION:Münchner Stadtmuseum, St.-Jakobs-Platz 1
ORGANIZER:Münchner Stadtmuseum
END:VEVENT
END:VCALENDAR