BEGIN:VCALENDAR
VERSION:2.0
PRODID:-//Stadtgeschichte München//DE
CALSCALE:GREGORIAN
BEGIN:VEVENT
UID:15211@stadtgeschichte-muenchen.de
SUMMARY:100 Jahre Revolution - 100 Jahre Demokratie in Bayern
DESCRIPTION:&lt;p&gt;Diskussionsveranstaltung mit:&lt;/p&gt; &lt;p&gt;Dr. Roland Schmidt, Geschäftsführendes Vorstandsmitglied Friedrich-Ebert-Stiftung&lt;br /&gt; Dr. Florian Weis, Geschäftsführendes Vorstandsmitglied Rosa-Luxemburg-Stiftung&lt;br /&gt; Prof. em. Dr. Barbara Vogel, Universität Hamburg&lt;br /&gt; Dr. Jürgen Zarusky, Institut für Zeitgeschichte, Chefredakteur Vierteljahrshefte für Zeitgeschichte&lt;br /&gt; Christiane Sternsdorf-Hauck, Publizistin&lt;br /&gt; Sebastian Zehetmair, Doktorand, Universität Augsburg / Zentrum für Zeithistorische Forschung Potsdam&lt;br /&gt; Moderation:&amp;nbsp;Antonie Rietzschel, Redakteurin, Süddeutsche Zeitung&lt;/p&gt; &lt;p&gt;In Kooperation mit der Rosa-Luxemburg-Stiftung&lt;/p&gt; 
DTSTART:20180416T190000
DTEND:20180416T000000
LOCATION:DGB Haus, Schwanthalerstr. 64
ORGANIZER:Friedrich-Ebert-Stiftung
END:VEVENT
END:VCALENDAR