BEGIN:VCALENDAR
VERSION:2.0
PRODID:-//Stadtgeschichte München//DE
CALSCALE:GREGORIAN
BEGIN:VEVENT
UID:15220@stadtgeschichte-muenchen.de
SUMMARY:Tanz des Vergessens/ Spiel der Hoffnung
DESCRIPTION:&lt;p&gt;Spazieren Sie zum 100. Jahrestag des Kriegsendes und der Ausrufung des Freistaats Bayern im November 1918 am Beispiel von Heidi Rehns Romanen „Tanz des Vergessens“ und „Spiel der Hoffnung“ durch die Münchner Maxvorstadt. Erleben Sie die Schauplätze, die von den großen Träumen und den zerplatzten Hoffnungen jener Jahre erzählen. Hören Sie, wie der Aufstieg Hitlers schon früh und eindeutig am Glanz der „Goldenen“ Zwanziger Jahre kratzt …&lt;/p&gt; &lt;p&gt;Anmeldung: heidi(at)dierehn(dot)de&amp;nbsp;oder 01577/93 97 801 bis 18:00 Uhr am Vorabend&lt;br /&gt; Die Tour kommt ab mind. 5 Teilnehmern zustande. bis Samstag&lt;/p&gt; 
DTSTART:20181111T110000
DTEND:20181111T130000
LOCATION:Springbrunnen am Geschwister-Scholl-Platz (Haupteingang Universität)
ORGANIZER:Rehn Heidi
END:VEVENT
END:VCALENDAR