BEGIN:VCALENDAR
VERSION:2.0
PRODID:-//Stadtgeschichte München//DE
CALSCALE:GREGORIAN
BEGIN:VEVENT
UID:15259@stadtgeschichte-muenchen.de
SUMMARY:Der Bauherr und seine Künstler 
DESCRIPTION:
DTSTART:20180527T140000
DTEND:20180527T000000
LOCATION:Kasse Neues Schloss Schleißheim 
ORGANIZER:Bayerische Schlösserverwaltung
END:VEVENT
END:VCALENDAR