BEGIN:VCALENDAR
VERSION:2.0
PRODID:-//Stadtgeschichte München//DE
CALSCALE:GREGORIAN
BEGIN:VEVENT
UID:15261@stadtgeschichte-muenchen.de
SUMMARY:»Der schönste, heiterste, weitläufigste Palast der ganzen Welt« 
DESCRIPTION:
DTSTART:20180603T110000
DTEND:20180603T000000
LOCATION:Kasse Residenzmuseum 
ORGANIZER:Bayerische Schlösserverwaltung
END:VEVENT
END:VCALENDAR