BEGIN:VCALENDAR
VERSION:2.0
PRODID:-//Stadtgeschichte München//DE
CALSCALE:GREGORIAN
BEGIN:VEVENT
UID:15268@stadtgeschichte-muenchen.de
SUMMARY:Geschichte und Geschichten aus den herrschaftlichen Appartements
DESCRIPTION:
DTSTART:20180612T163000
DTEND:20180612T000000
LOCATION:Haupteingang Schloss Nymphenburg 
ORGANIZER:Bayerische Schlösserverwaltung
END:VEVENT
END:VCALENDAR