BEGIN:VCALENDAR
VERSION:2.0
PRODID:-//Stadtgeschichte München//DE
CALSCALE:GREGORIAN
BEGIN:VEVENT
UID:15272@stadtgeschichte-muenchen.de
SUMMARY:Schloss Nymphenburg einst und jetzt 
DESCRIPTION:
DTSTART:20180619T163000
DTEND:20180619T000000
LOCATION:Haupteingang Schloss Nymphenburg 
ORGANIZER:Bayerische Schlösserverwaltung
END:VEVENT
END:VCALENDAR