BEGIN:VCALENDAR
VERSION:2.0
PRODID:-//Stadtgeschichte München//DE
CALSCALE:GREGORIAN
BEGIN:VEVENT
UID:15276@stadtgeschichte-muenchen.de
SUMMARY:Edle Damen, tugendhafte Frauen und leichte Mädchen 
DESCRIPTION:
DTSTART:20180626T163000
DTEND:20180626T000000
LOCATION:Haupteingang Schloss Nymphenburg 
ORGANIZER:Bayerische Schlösserverwaltung
END:VEVENT
END:VCALENDAR