BEGIN:VCALENDAR
VERSION:2.0
PRODID:-//Stadtgeschichte München//DE
CALSCALE:GREGORIAN
BEGIN:VEVENT
UID:15307@stadtgeschichte-muenchen.de
SUMMARY:Im weiß-blauen Land
DESCRIPTION:&lt;p&gt;Ein Film von Dr. Ingvild Richardsen und Dr. Michael Appel Bayerischer Rundfunk, Redaktion: Wir in Bayern,&lt;/p&gt; &lt;p&gt;Leitung: Wolfgang Preuss&lt;/p&gt; &lt;p&gt;Der Film erzählt die Geschichte der bayerischen Schriftstellerin und Frauenrechtlerin Carry Brachvogel (1864- 1942), einer herausragenden Frauengestaltihrer Zeit: modern, fortschrittlich, emanzipiert - und ihrer bayerischen Heimat aufs Engste verbunden.&lt;/p&gt; &lt;p&gt;Carry Brachvogel stammte aus einem jüdisch-bayerischen Elternhaus. Im ersten Drittel des 20. Jahrhunderts avancierte sie zu einer in ganz Deutschland bekannten Schriftstellerin und spielte eine bedeutende Rollein der Frauenbewegung und im kulturellen Leben Münchens. Jahrzehntelang warihr literarischer Salon ein Zentrum des kulturellen Lebens der Stadt. Wegen ihrer jüdischen Herkunft erhielt sie 1933 Berufsverbot. Zusammen mit ihrem Bruder, dem Historiker Prof. Dr. Siegmund Hellmann, wurde sie 1942 nach Theresienstadt deportiert, wo beide wenige Monate später umkamen.&lt;/p&gt; &lt;p&gt;Mit einer Einführung von Dr. Ingvild Richardsen&lt;/p&gt; &lt;p&gt;Im Anschluss an den 30-minütigen Film stehen die Autorin Dr. Ingvild Richardsen und der Regisseur Dr. Michael Appel für Fragen bereit.&lt;/p&gt; &lt;p&gt;&amp;nbsp;Veranstalter: Monacensia im Hildebrandhaus in Kooperation mit dem Bayerischen Rundfunk&lt;/p&gt; 
DTSTART:20180411T190000
DTEND:20180411T000000
LOCATION:Monacensia im Hildebrandhaus
ORGANIZER:Monacensia
END:VEVENT
END:VCALENDAR