BEGIN:VCALENDAR
VERSION:2.0
PRODID:-//Stadtgeschichte München//DE
CALSCALE:GREGORIAN
BEGIN:VEVENT
UID:15317@stadtgeschichte-muenchen.de
SUMMARY:Evas Töchter
DESCRIPTION:&lt;p&gt;München war seit 1894 von der modernen Frauenbewegung bestimmt. Sie trat ein&lt;/p&gt; &lt;ul&gt; &lt;li&gt;für ein neues Frauenbild,&lt;/li&gt; &lt;li&gt;das Recht auf Bildung,&lt;/li&gt; &lt;li&gt;Selbstimmung und&lt;/li&gt; &lt;li&gt;Erwerbstätigkeit der Frau.&amp;nbsp;&lt;/li&gt; &lt;/ul&gt; &lt;p&gt;Die Stadt war geprägt von Frauen wie Anita Augspurg, Sophia Goudsticker, Ika Freudenberg, Marie Haushofer, Carry Brachvogel und vielen anderen.&amp;nbsp;Die Lebensentwürfe, Ansichten und Ideen dieser politisch engagierten Frauen sind heute noch hoch aktuell.&amp;nbsp;&lt;/p&gt; &lt;p&gt;Die Ausstellung &quot;Evas Töchter&quot; präsentiert anhand bisher unbekannter Originaldokumente und Objekte das Leben und Wirken damals deutschlandweit renommierter Münchner Schriftstellerinnen, die sich an vorderster Front für ein modernes Frauenbild stark gemacht haben.&amp;nbsp;&lt;/p&gt; 
DTSTART:20180502T163000
DTEND:20180502T183000
LOCATION:Monacensia * Maria-Theresia-Straße 23 * München-Bogenhausen
ORGANIZER:Münchner Zeitensprünge
END:VEVENT
END:VCALENDAR