BEGIN:VCALENDAR
VERSION:2.0
PRODID:-//Stadtgeschichte München//DE
CALSCALE:GREGORIAN
BEGIN:VEVENT
UID:15320@stadtgeschichte-muenchen.de
SUMMARY:Stephan Zinner
DESCRIPTION:Stephan Zinner &nbsp; 
DTSTART:20180708T110000
DTEND:20180708T130000
LOCATION:KiM-Kino * Einsteinstraße 42 * München-Haidhausen
ORGANIZER:Münchner Zeitensprünge
END:VEVENT
END:VCALENDAR