BEGIN:VCALENDAR
VERSION:2.0
PRODID:-//Stadtgeschichte München//DE
CALSCALE:GREGORIAN
BEGIN:VEVENT
UID:15324@stadtgeschichte-muenchen.de
SUMMARY:Kurz-Führung im Stadtmuseum
DESCRIPTION:&lt;p&gt;Vom angeblichen Schlüsselbein Herzog Heinrichs des Löwen bis zur Allianz Arena wird die Kulturgeschichte Münchens von ihrer Gründungslegende bis zur Gegenwart beleuchtet. Ein besonderes Augenmerk wird dabei auf die kommunale Emanzipation Münchens gerichtet. Die Führung mit Ursula Schuster zeigt in einem Streifzug durch die Stadtgeschichte, was seit wann und warum typisch ist für München.&lt;/p&gt; &lt;p&gt;Mittwoch, 11. April um 18.00 Uhr. Die Ausstellung „Typisch München!“ ist an diesem Abend bis 20 Uhr geöffnet /&amp;nbsp;&lt;/p&gt; 
DTSTART:20180411T180000
DTEND:20180411T000000
LOCATION:Münchner Stadtmuseum
ORGANIZER:Münchner Stadtmuseum
END:VEVENT
END:VCALENDAR