BEGIN:VCALENDAR
VERSION:2.0
PRODID:-//Stadtgeschichte München//DE
CALSCALE:GREGORIAN
BEGIN:VEVENT
UID:154@stadtgeschichte-muenchen.de
SUMMARY:Eine Stadt wird „grün-modelliert
DESCRIPTION:&lt;p&gt;Nach Kriegs-, Not- und Wiederaufbauzeiten wurde erst nach 1960 st&amp;auml;dtisches Gr&amp;uuml;n wieder zu einer Dominante in der Stadtentwicklung. Einen Anfang bildete die Begr&amp;uuml;nung der gro&amp;szlig;en Schuttberge in Schwabing, am Oberwiesenfeld und Neu-hofen. Mit Olympiapark, Ostpark und Westpark entstanden neue gro&amp;szlig;fl&amp;auml;chige und multifunktionale Landschaftsparks, die mit umfangreichen Erdbewegungen und Gel&amp;auml;ndemodellierungen sowie Wasserf&amp;uuml;hrungen k&amp;uuml;nstlich und k&amp;uuml;nstlerisch gestaltet wurden.&lt;/p&gt;
DTSTART:20110806T110000
DTEND:20110806T130000
LOCATION:Olympiapark (Eingang Schwimmhalle) â€¢ Coubertinplatz 1
ORGANIZER:MVHS München Mitte   
END:VEVENT
END:VCALENDAR