BEGIN:VCALENDAR
VERSION:2.0
PRODID:-//Stadtgeschichte München//DE
CALSCALE:GREGORIAN
BEGIN:VEVENT
UID:1542@stadtgeschichte-muenchen.de
SUMMARY:Knusper-Kripperl-Kramperl
DESCRIPTION:&lt;p&gt;&amp;nbsp;&lt;/p&gt; &lt;p&gt;Ihr wisst schon alles &amp;uuml;ber Weihnachten? Dann probiert es hiermit:&lt;/p&gt; &lt;p&gt;Kann man an Heiligabend wirklich die Tiere in menschlicher Sprache reden h&amp;ouml;ren? Was hat es mit dem ber&amp;uuml;hmtesten M&amp;uuml;nchner Fatschnkindl auf sich? Und was um alles in der Welt ist der sagenumwobene Christblock? Verf&amp;uuml;gt er tats&amp;auml;chlich &amp;uuml;ber magische Kr&amp;auml;fte?&lt;/p&gt; &lt;p&gt;Neugierig geworden? Dann begebt euch mit den Stadtdetektiven bei der &amp;bdquo;&amp;rdquo;Knusper-Kripperl-Kramperl&amp;rdquo;-Tour auf Spurensuche durch das geheimnisvolle, weihnachtliche M&amp;uuml;nchen.&lt;/p&gt; &lt;p&gt;Lasst euch von uralten Br&amp;auml;uchen berichten und den (nicht immer ganz so friedvollen) Geschichten rundum die Hl. Nacht in M&amp;uuml;nchen verzaubern.&lt;/p&gt; &lt;p&gt;Anmeldung:&amp;nbsp;&lt;a href=&quot;http://www.stadtdetektive.com/kontakt&quot;&gt;http://www.stadtdetektive.com/kontakt&lt;/a&gt;&amp;nbsp;&lt;/p&gt; &lt;p&gt;&amp;nbsp;&lt;/p&gt;
DTSTART:20111209T150000
DTEND:20111209T000000
LOCATION:Sendlinger Tor
ORGANIZER:Die Stadtschwärmer
END:VEVENT
END:VCALENDAR