BEGIN:VCALENDAR
VERSION:2.0
PRODID:-//Stadtgeschichte München//DE
CALSCALE:GREGORIAN
BEGIN:VEVENT
UID:15573@stadtgeschichte-muenchen.de
SUMMARY:Das Sommerfest der Monacensia  im Hildebrandhaus 
DESCRIPTION:&lt;p&gt;Das Literarische Gedächtnis der Stadt München&amp;nbsp; öffnet Haus und Garten zum traditionellen alljährlichen Sommerfest mit Musik und guter Laune.&lt;/p&gt; &lt;p&gt;Begrüßung:&lt;br /&gt; Anton Biebl&lt;br /&gt; Stadtdirektor im Kulturreferat der Landeshauptstadt München&lt;/p&gt; &lt;p&gt;Dr. Arne Ackermann&lt;br /&gt; Direktor der Münchner Stadtbibliothek&lt;/p&gt; &lt;p&gt;Das Cafe MON serviert sommerliche, mediterrane&amp;nbsp; und bayerische Spezialitäten sowie erfrischende Getränke zu moderaten Preisen.&lt;br /&gt; Das Sommerfest findet bei jedem Wetter statt Veranstalter: Monacensiaim Hildebrandhaus&lt;/p&gt; 
DTSTART:20180721T190000
DTEND:20180721T230000
LOCATION:Monacensia im Hildebrandhaus
ORGANIZER:Monacensia
END:VEVENT
END:VCALENDAR