BEGIN:VCALENDAR
VERSION:2.0
PRODID:-//Stadtgeschichte München//DE
CALSCALE:GREGORIAN
BEGIN:VEVENT
UID:156@stadtgeschichte-muenchen.de
SUMMARY:Gänsefuß und Liebesgras
DESCRIPTION:Im Inneren unserer Städte dominieren gepflasterte Wege, asphaltierte Straßen und Gebäude. Doch in vielen Nischen unserer Städte haben sich ganze Heerscharen von einheimischen und eingewanderten Pflanzen eingenistet: Sie zeugen von einer Eroberung neuer ökologischer Nischen, die sich durch das veränderte Mikroklima in unseren Städten bilden. In Münchens Innenstadt wollen wir auf Pflanzenexkursion gehen und einen Blick für die â€žgrüne\" Zukunft unserer Stadt bekommen. Zuletzt wird eine Brücke zum Projekt â€žFlora von München\" geschlagen. Die Veranstaltung findet bei jedem Wetter statt.
DTSTART:20110901T170000
DTEND:20110901T190000
LOCATION:Sendlinger Tor, Südseite
ORGANIZER:MVHS München Mitte   
END:VEVENT
END:VCALENDAR