BEGIN:VCALENDAR
VERSION:2.0
PRODID:-//Stadtgeschichte München//DE
CALSCALE:GREGORIAN
BEGIN:VEVENT
UID:15643@stadtgeschichte-muenchen.de
SUMMARY:Bedeutende Frauen für Frieden, Forschung und Fortschritt
DESCRIPTION:&lt;p&gt;Bei einem Stadtteilrundgang in der Münchner Altstadt erfahren Sie Interessantes über die bemerkenswerten Lebenswege bedeutender Frauen aus Politik, Literatur, Kunst und Sport. Die Errungenschaften dieser Frauen aus dem 19. und 20. Jh. sind auch im 21. Jh. noch aktuell. Freuen Sie sich auf die Biografien von mutigen und starken Frauen, wie beispielsweise Dr. Rosa Kempt, Ellen Ammann, Prinzessin Therese von Bayern, Elisabet Ney, Annette Kolb, Emmy Noether oder Constanze Hallgarten. Zusätzlich erfahren Sie Wissenswertes über die von uns aufgesuchten historischen Gebäude.&lt;/p&gt; &lt;p&gt;Stadtteilrundgang mit kurzer Trambahnfahrt vom Maximilianeum zum Nationaltheater,&lt;/p&gt; 
DTSTART:20180729T140000
DTEND:20180729T160000
LOCATION:Maximilianeum, Ostseite, Trambahnlinie 19 (Maximilianeum) oder U-Bahn (Max-Weber-Platz)
ORGANIZER:DGB-Bildungswerk Bayern e.V. Region München
END:VEVENT
END:VCALENDAR