BEGIN:VCALENDAR
VERSION:2.0
PRODID:-//Stadtgeschichte München//DE
CALSCALE:GREGORIAN
BEGIN:VEVENT
UID:15644@stadtgeschichte-muenchen.de
SUMMARY:Nachtlichter
DESCRIPTION:&lt;p&gt;Wir fahren nachts, um die Stadt auch mal aus dieser Perspektive zu sehen und zu bewundern. Dabei werden der historische Hintergrund der Gebäude sowie die verwendete Beleuchtungstechnik erklärt. Wir beginnen im Umfeld der beleuchteten Bavaria, fahren dann mit Zwischenstationen zum angestrahlten Friedensengel und erleben schließlich den nächtlichen Marienplatz, wo um ca. 23:30 Uhr die Tour endet.&lt;/p&gt; &lt;p&gt;Bitte stellen Sie sicher, dass die Beleuchtung Ihres Fahrrades einwandfrei funktioniert.&lt;/p&gt; &lt;p&gt;Ausweichtermin bei schlechtem Wetter: 17.08.2018&lt;/p&gt; 
DTSTART:20180810T210000
DTEND:20180810T233000
LOCATION:Esperantoplatz
ORGANIZER:DGB-Bildungswerk Bayern e.V. Region München
END:VEVENT
END:VCALENDAR