BEGIN:VCALENDAR
VERSION:2.0
PRODID:-//Stadtgeschichte München//DE
CALSCALE:GREGORIAN
BEGIN:VEVENT
UID:15708@stadtgeschichte-muenchen.de
SUMMARY:Gipfelsturm auf Münchens Stattberge
DESCRIPTION:&lt;p&gt;&quot;München liegt in einer Ebene zwischen zwei Hügelreihen&quot; wusste ein Geographie-Lehrbuch von 1842. Zwei zünftige Stattwanderungen lassen uns die innerstädtische Berglandschaft erlbene. Wir erklimmen einige Gipfel, Höhenwege bieten immer wieder neue Aussichten. Zügig geht es voran, Trittsicherheit und Schwindelfreiheit sind nicht erforderlich.&lt;/p&gt; &lt;p&gt;Am Osthang wandern wir vom Candidplatz bis zum Maria-Hilf-Platz und überwinden mit drei steilen Bergansteigen fast 100 Höhenmeter! Auf geht\'s!&lt;/p&gt; &lt;p&gt;Siehe auch: Tour S: Das ist die Höh´ in Sendling&lt;/p&gt; 
DTSTART:20180722T160000
DTEND:20180722T000000
LOCATION:Candidplatz 1 (Ecke Pilgersheimer Str.)
ORGANIZER:STATTreisen München e.V.
END:VEVENT
END:VCALENDAR