BEGIN:VCALENDAR
VERSION:2.0
PRODID:-//Stadtgeschichte München//DE
CALSCALE:GREGORIAN
BEGIN:VEVENT
UID:15725@stadtgeschichte-muenchen.de
SUMMARY:Von der grünen Wiese zum rosa Viertel
DESCRIPTION:&lt;p&gt;Der Reiz des Viertels sind seine Gegensätze: Edelboutiquen und Handwerksbetriebe, Kunst und Behörden, Kneipen und ein Kloster; Münchens teuerster Wohnturm und das Haus der Sozialgenossenschaft &quot;Bellevue die Monaco&quot;. Und warum sind die Häuser am Gärtnerplatz rosa?&lt;/p&gt; 
DTSTART:20180818T160000
DTEND:20180818T000000
LOCATION:Tramhaltestelle Reichenbachplatz, Richtung Sendlinger Tor
ORGANIZER:STATTreisen München e.V.
END:VEVENT
END:VCALENDAR