BEGIN:VCALENDAR
VERSION:2.0
PRODID:-//Stadtgeschichte München//DE
CALSCALE:GREGORIAN
BEGIN:VEVENT
UID:15735@stadtgeschichte-muenchen.de
SUMMARY:Jüdisches Leben in München
DESCRIPTION:&lt;p&gt;Von ihrer ersten Nennung vor rund 800 Jahren bis in die Gegenwart gab es nur wenige Zeiten, in denen Juden in München unbehelligt und in Frieden leben konnten. Dennoch haben sie das Leben der Stadt in vielen Bereichen geprägt und bereichert.&lt;/p&gt; 
DTSTART:20181101T110000
DTEND:20181101T000000
LOCATION:Dienerstraße, gegenüber Dallmayr
ORGANIZER:STATTreisen München e.V.
END:VEVENT
END:VCALENDAR