BEGIN:VCALENDAR
VERSION:2.0
PRODID:-//Stadtgeschichte München//DE
CALSCALE:GREGORIAN
BEGIN:VEVENT
UID:15768@stadtgeschichte-muenchen.de
SUMMARY:Die Gründung Münchens
DESCRIPTION:&lt;p&gt;Diese Veranstaltung findet in Kooperation mit dem Münchner Stadtmuseum statt&lt;/p&gt; 
DTSTART:20181116T160000
DTEND:20181116T000000
LOCATION:Stadtmuseum München
ORGANIZER:VHS SüdOst Landkreis München
END:VEVENT
END:VCALENDAR