BEGIN:VCALENDAR
VERSION:2.0
PRODID:-//Stadtgeschichte München//DE
CALSCALE:GREGORIAN
BEGIN:VEVENT
UID:15801@stadtgeschichte-muenchen.de
SUMMARY:Heldenhaftes taufrisch
DESCRIPTION:
DTSTART:20180704T140000
DTEND:20180704T000000
LOCATION:Kasse Residenzmuseum
ORGANIZER:Bayerische Schlösserverwaltung
END:VEVENT
END:VCALENDAR