BEGIN:VCALENDAR
VERSION:2.0
PRODID:-//Stadtgeschichte München//DE
CALSCALE:GREGORIAN
BEGIN:VEVENT
UID:15804@stadtgeschichte-muenchen.de
SUMMARY:Silber, weißes Gold und Tafelkultur
DESCRIPTION:
DTSTART:20180704T120000
DTEND:20180704T000000
LOCATION:Kasse Residenzmuseum
ORGANIZER:Bayerische Schlösserverwaltung
END:VEVENT
END:VCALENDAR