BEGIN:VCALENDAR
VERSION:2.0
PRODID:-//Stadtgeschichte München//DE
CALSCALE:GREGORIAN
BEGIN:VEVENT
UID:15819@stadtgeschichte-muenchen.de
SUMMARY:Von der mittelalterlichen Burg zur königlichen Residenz
DESCRIPTION:
DTSTART:20180708T110000
DTEND:20180708T000000
LOCATION:Kasse Residenzmuseum
ORGANIZER:Bayerische Schlösserverwaltung
END:VEVENT
END:VCALENDAR