BEGIN:VCALENDAR
VERSION:2.0
PRODID:-//Stadtgeschichte München//DE
CALSCALE:GREGORIAN
BEGIN:VEVENT
UID:15821@stadtgeschichte-muenchen.de
SUMMARY:Zu Besuch beim Kurfürsten im Schloss Schleißheim
DESCRIPTION:
DTSTART:20180708T140000
DTEND:20180708T000000
LOCATION:Kasse Neues Schloss Schleißheim
ORGANIZER:Bayerische Schlösserverwaltung
END:VEVENT
END:VCALENDAR