BEGIN:VCALENDAR
VERSION:2.0
PRODID:-//Stadtgeschichte München//DE
CALSCALE:GREGORIAN
BEGIN:VEVENT
UID:15830@stadtgeschichte-muenchen.de
SUMMARY:Fürstliche Repräsentationspflicht 
DESCRIPTION:
DTSTART:20180722T133000
DTEND:20180722T000000
LOCATION:Kasse Residenzmuseum
ORGANIZER:Bayerische Schlösserverwaltung
END:VEVENT
END:VCALENDAR