BEGIN:VCALENDAR
VERSION:2.0
PRODID:-//Stadtgeschichte München//DE
CALSCALE:GREGORIAN
BEGIN:VEVENT
UID:15835@stadtgeschichte-muenchen.de
SUMMARY:Was tut man nicht alles für die Kunst! 
DESCRIPTION:
DTSTART:20180729T133000
DTEND:20180729T000000
LOCATION:Kasse Residenzmuseum
ORGANIZER:Bayerische Schlösserverwaltung
END:VEVENT
END:VCALENDAR