BEGIN:VCALENDAR
VERSION:2.0
PRODID:-//Stadtgeschichte München//DE
CALSCALE:GREGORIAN
BEGIN:VEVENT
UID:15836@stadtgeschichte-muenchen.de
SUMMARY:Große Bühne für die alten Meister 
DESCRIPTION:
DTSTART:20180729T140000
DTEND:20180729T000000
LOCATION:Kasse Neues Schloss Schleißheim
ORGANIZER:Bayerische Schlösserverwaltung
END:VEVENT
END:VCALENDAR