BEGIN:VCALENDAR
VERSION:2.0
PRODID:-//Stadtgeschichte München//DE
CALSCALE:GREGORIAN
BEGIN:VEVENT
UID:15876@stadtgeschichte-muenchen.de
SUMMARY:Cuvillies’ Amalienburg 
DESCRIPTION:
DTSTART:20181002T163000
DTEND:20181002T000000
LOCATION:Haupteingang Schloss Nymphenburg
ORGANIZER:Bayerische Schlösserverwaltung
END:VEVENT
END:VCALENDAR