BEGIN:VCALENDAR
VERSION:2.0
PRODID:-//Stadtgeschichte München//DE
CALSCALE:GREGORIAN
BEGIN:VEVENT
UID:15891@stadtgeschichte-muenchen.de
SUMMARY:Das Schloss Nymphenburg 
DESCRIPTION:
DTSTART:20181030T143000
DTEND:20181030T000000
LOCATION:Haupteingang Schloss Nymphenburg
ORGANIZER:Bayerische Schlösserverwaltung
END:VEVENT
END:VCALENDAR