BEGIN:VCALENDAR
VERSION:2.0
PRODID:-//Stadtgeschichte München//DE
CALSCALE:GREGORIAN
BEGIN:VEVENT
UID:15908@stadtgeschichte-muenchen.de
SUMMARY:Ludwig III. und das Ende der Monarchie
DESCRIPTION:&lt;p&gt;Der Vortrag knüpft an die Ausste llung „König Ludwig III. Bayerns letzter König&quot; im Museum Starnberger See (18.5.-16.9.2018) an und betrachtet schwerpunktmäßig die Zeit unmittelbar nach der Abdankung des Königs.&lt;/p&gt; 
DTSTART:20181121T200000
DTEND:20181121T000000
LOCATION:Schlossberghalle Starnberg
ORGANIZER:Museum Starnberger See
END:VEVENT
END:VCALENDAR