BEGIN:VCALENDAR
VERSION:2.0
PRODID:-//Stadtgeschichte München//DE
CALSCALE:GREGORIAN
BEGIN:VEVENT
UID:15917@stadtgeschichte-muenchen.de
SUMMARY:Typisch München!
DESCRIPTION:&lt;h3&gt;Führung und Stadtrundgang mit Ursula Simon-Schuster&lt;/h3&gt; &lt;p&gt;Was ist typisch München und warum? Die Dauerausstellung „Typisch München!“ zeigt Ihnen Bekanntes, Unbekanntes und auch Unerwartetes aus den Anfängen der „Weltstadt mit Herz“. Auf dem anschließenden Innenstadt-Rundgang begeben sich die Teilnehmer_innen auf die Spuren der „typischen“ Münchner Sehenswürdigkeiten.&lt;/p&gt; &lt;p&gt;Für alle Münchner, Neu-Münchner, Münchenbesucher, Münchenliebhaber und solche, die es werden wolle&lt;/p&gt; 
DTSTART:20180713T103000
DTEND:20180713T000000
LOCATION:Stadtmuseum München
ORGANIZER:Münchner Stadtmuseum
END:VEVENT
END:VCALENDAR